BEGIN:VCALENDAR
VERSION:2.0
PRODID:-//Squarespace Inc/Squarespace 6//v6//EN
BEGIN:VEVENT
UID:640131d43724fe683fa3988d@squarespace.com
DTSTAMP:20231214T004948Z
DTSTART:20230402T140000Z
DTEND:20230402T200000Z
SUMMARY:April 2023 MA LTC Course (Eastern)
END:VEVENT
END:VCALENDAR
