BEGIN:VCALENDAR
VERSION:2.0
PRODID:-//Squarespace Inc/Squarespace 6//v6//EN
BEGIN:VEVENT
UID:62ebefce00c13424dc9ca0b1@squarespace.com
DTSTAMP:20231214T005102Z
DTSTART:20220828T140000Z
DTEND:20220828T200000Z
SUMMARY:August 2022 MA LTC Class (Western)
END:VEVENT
END:VCALENDAR
