BEGIN:VCALENDAR
VERSION:2.0
PRODID:-//Squarespace Inc/Squarespace 6//v6//EN
BEGIN:VEVENT
UID:63b88070c2eb7d13237b4c1f@squarespace.com
DTSTAMP:20231214T005001Z
DTSTART:20230205T150000Z
DTEND:20230205T210000Z
SUMMARY:February 2023 MA LTC Course (Eastern)
END:VEVENT
END:VCALENDAR
