BEGIN:VCALENDAR
VERSION:2.0
PRODID:-//Squarespace Inc/Squarespace 6//v6//EN
BEGIN:VEVENT
UID:637bc5ad73a4a12fc06a830a@squarespace.com
DTSTAMP:20231214T005025Z
DTSTART:20221218T150000Z
DTEND:20221218T210000Z
SUMMARY:December 2022 MA LTC Course (Eastern)
END:VEVENT
END:VCALENDAR
