BEGIN:VCALENDAR
VERSION:2.0
PRODID:-//Squarespace Inc/Squarespace 6//v6//EN
BEGIN:VEVENT
UID:6489fb40d142bf298301d212@squarespace.com
DTSTAMP:20231214T004926Z
DTSTART:20230709T140000Z
DTEND:20230709T200000Z
SUMMARY:July 2023 MA LTC Course (Eastern)
END:VEVENT
END:VCALENDAR
