BEGIN:VCALENDAR
VERSION:2.0
PRODID:-//Squarespace Inc/Squarespace 6//v6//EN
BEGIN:VEVENT
UID:6224e3d5e3cd1828c1d18e42@squarespace.com
DTSTAMP:20220804T163322Z
DTSTART:20220326T140000Z
DTEND:20220326T190000Z
SUMMARY:MA License to Carry Class
END:VEVENT
END:VCALENDAR
