BEGIN:VCALENDAR
VERSION:2.0
PRODID:-//Squarespace Inc/Squarespace 6//v6//EN
BEGIN:VEVENT
UID:62ebf01fa21101033d517397@squarespace.com
DTSTAMP:20231214T005046Z
DTSTART:20220918T140000Z
DTEND:20220918T200000Z
SUMMARY:September 2022 MA LTC Class (Eastern)
END:VEVENT
END:VCALENDAR
