BEGIN:VCALENDAR
VERSION:2.0
PRODID:-//Squarespace Inc/Squarespace 6//v6//EN
BEGIN:VEVENT
UID:64e51cbf739af33c11159742@squarespace.com
DTSTAMP:20231214T004911Z
DTSTART:20230924T140000Z
DTEND:20230924T200000Z
SUMMARY:September 2023 MA LTC Course (Eastern)
END:VEVENT
END:VCALENDAR
