BEGIN:VCALENDAR
VERSION:2.0
PRODID:-//Squarespace Inc/Squarespace 6//v6//EN
BEGIN:VEVENT
UID:6144e10dee0b3e157212c62d@squarespace.com
DTSTAMP:20211003T223059Z
DTSTART:20211002T160000Z
DTEND:20211002T200000Z
SUMMARY:MA LTC Course - Worcester
END:VEVENT
END:VCALENDAR
